BEGIN:VCALENDAR
VERSION:2.0
PRODID:-//events-legacy.stanford.edu//NONSGML kigkonsult.se iCalcreator 2.2
 2//
BEGIN:VTIMEZONE
TZID:US-Pacific
END:VTIMEZONE
BEGIN:VEVENT
UID:20260420T014553PDT-1659vDNk5A@events-legacy.stanford.edu
DTSTAMP:20260420T084553Z
DESCRIPTION:Details at  http://events-legacy.stanford.edu/events/893/89378
DTSTART:20201107T000000Z
DURATION:PT1H9M0S
LOCATION:https://stanford.zoom.us/j/92783685126?pwd=cDNESkxwS2t2M0M2UEV3akh
 3Qm0xdz09
SUMMARY:Dinner with Opal Tometi\, Co-Founder of Black Lives Matter
END:VEVENT
END:VCALENDAR
 