BEGIN:VCALENDAR
VERSION:2.0
PRODID:-//events-legacy.stanford.edu//NONSGML kigkonsult.se iCalcreator 2.2
 2//
BEGIN:VTIMEZONE
TZID:US-Pacific
END:VTIMEZONE
BEGIN:VEVENT
UID:20260419T055254PDT-46858ejsp3@events-legacy.stanford.edu
DTSTAMP:20260419T125254Z
DESCRIPTION:Details at  http://events-legacy.stanford.edu/events/912/91252
DTSTART:20210524T183000Z
DURATION:PT1H15M0S
LOCATION:Zoom
SUMMARY:Bryan Roby: The Israeli Black Panthers and Other Mizrahi Protest Mo
 vements in Israel
END:VEVENT
END:VCALENDAR
 